BEGIN:VCALENDAR
VERSION:2.0
PRODID:gruene-grasberg.de
METHOD:PUBLISH
BEGIN:VTIMEZONE
TZID:Europe/Berlin
X-LIC-LOCATION:Europe/Berlin
BEGIN:DAYLIGHT
TZOFFSETFROM:+0100
TZOFFSETTO:+0200
TZNAME:CEST
DTSTART:19700329T020000
RRULE:FREQ=YEARLY;INTERVAL=1;BYDAY=-1SU;BYMONTH=3
END:DAYLIGHT
BEGIN:STANDARD
TZOFFSETFROM:+0200
TZOFFSETTO:+0100
TZNAME:CET
DTSTART:19701025T030000
RRULE:FREQ=YEARLY;INTERVAL=1;BYDAY=-1SU;BYMONTH=10
END:STANDARD
END:VTIMEZONE
BEGIN:VEVENT
UID:d21015fa4938e0ac6cdfd5ae06b4160f@gruene-grasberg.de
URL;VALUE=URI:https://gruene-grasberg.de/termine/wie-funktioniert-kommuna
 lpolitik/
LOCATION:
SUMMARY:Wie funktioniert Kommunalpolitik?
DESCRIPTION;ALTREP="data:text/html,%0A%3Cp%3E%3Cstrong%3EThema%20Jugend%2
 C%20Freizeit%20und%20Senioren%3C%2Fstrong%3E%3C%2Fp%3E%0A%0A%0A%0A%3Cp%3E
 Kontakt%20und%20weitere%20Informationen%3A%3Cbr%3EKreisb%C3%BCro%20des%20
 Kreisverbands%20Osterholz%3Cbr%3EVerena%20Rademaker-Wolff%3Cbr%3EBahnhofs
 tra%C3%9Fe%2088%3Cbr%3E27711%20Osterholz-Scharmbeck%3C%2Fp%3E%0A%0A%0A%0A
 %3Cp%3EE-Mail%3A%26nbsp%3Bbuero%40gruene-osterholz.de%3Cbr%3ETelefon%3A%2
 004791%2F3090987%3C%2Fp%3E%0A":Thema Jugend\, Freizeit und Senioren\n\nKo
 ntakt und weitere Informationen:Kreisbüro des Kreisverbands OsterholzVer
 ena Rademaker-WolffBahnhofstraße 8827711 Osterholz-Scharmbeck\n\nE-Mail:
  buero@gruene-osterholz.deTelefon: 04791/3090987
CLASS:PUBLIC
DTSTART;TZID=Europe/Berlin:20250517T100000
DTEND;TZID=Europe/Berlin:20250517T160000
DTSTAMP:20260424T171010
END:VEVENT
END:VCALENDAR