BEGIN:VCALENDAR
VERSION:2.0
PRODID:gruene-grasberg.de
METHOD:PUBLISH
BEGIN:VTIMEZONE
TZID:Europe/Berlin
X-LIC-LOCATION:Europe/Berlin
BEGIN:DAYLIGHT
TZOFFSETFROM:+0100
TZOFFSETTO:+0200
TZNAME:CEST
DTSTART:19700329T020000
RRULE:FREQ=YEARLY;INTERVAL=1;BYDAY=-1SU;BYMONTH=3
END:DAYLIGHT
BEGIN:STANDARD
TZOFFSETFROM:+0200
TZOFFSETTO:+0100
TZNAME:CET
DTSTART:19701025T030000
RRULE:FREQ=YEARLY;INTERVAL=1;BYDAY=-1SU;BYMONTH=10
END:STANDARD
END:VTIMEZONE
BEGIN:VEVENT
UID:67d188845bae04eb1e4c77a09d8ba95a@gruene-grasberg.de
URL;VALUE=URI:https://gruene-grasberg.de/termine/vortrag-demokratie-in-ge
 fahr/
LOCATION:Hotel Daub, Bahnhofstraße 2, 27432 Bremervörde
SUMMARY:Vortrag „Demokratie in Gefahr“
DESCRIPTION;ALTREP="data:text/html,%0A%3Cp%3Egerne%20teilen%20wir%20hier%
 20eine%20wichtige%20Termininfo%20unseres%20Kreisverbandes%20Osterholz%20a
 us%20der%20Nachbarschaft%20da%20dieser%20auch%20f%C3%BCr%20Mitglieder%20d
 er%20Osterholzer%20Ortsverb%C3%A4nde%20interessant%20sein%20kann%3Cbr%3E%
 F0%9F%8C%BB%3Cbr%3EDer%20Ortsverband%20Bremerv%C3%B6rde%20l%C3%A4dt%20int
 eressierte%20B%C3%BCrgerInnen%20ein%3A%3Cbr%3E%F0%9F%8C%BB%3Cbr%3EAm%20Mo
 ntag%20den%2008.04.2024z%20um%2019%3A30%20Uhr%3Cbr%3Ekommt%20Frank%20Ziem
 ann%20in%20das%20Hotel%20Daub%2C%3Cbr%3EBahnhofstra%C3%9Fe%202%2C%2027432
 %20Bremerv%C3%B6rde%3Cbr%3E%F0%9F%8C%BB%3Cbr%3EEr%20wird%20%C3%BCber%20da
 s%20Thema%3Cbr%3EDemokratie%20in%20Gefahr%20sprechen.%3Cbr%3EFrank%20Ziem
 ann%20arbeit%20im%20Ministerium%20f%C3%BCr%20Inneres%20und%20Sport%20im%2
 0Arbeitsbereich%20Pr%C3%A4vention.%3Cbr%3E%F0%9F%8C%BB%3Cbr%3EInfos%20gib
 ts%20bei%20den%20%40gruenebremervoerde%3Cbr%3E%F0%9F%8C%BB%3Cbr%3EWir%20w
 erden%20dabei%20sein%20und%20freuen%20uns%21%3C%2Fp%3E%0A":gerne teilen w
 ir hier eine wichtige Termininfo unseres Kreisverbandes Osterholz aus der
  Nachbarschaft da dieser auch für Mitglieder der Osterholzer Ortsverbän
 de interessant sein kann🌻Der Ortsverband Bremervörde lädt interessie
 rte BürgerInnen ein:🌻Am Montag den 08.04.2024z um 19:30 Uhrkommt Fran
 k Ziemann in das Hotel Daub\,Bahnhofstraße 2\, 27432 Bremervörde🌻Er 
 wird über das ThemaDemokratie in Gefahr sprechen.Frank Ziemann arbeit im
  Ministerium für Inneres und Sport im Arbeitsbereich Prävention.🌻Inf
 os gibts bei den @gruenebremervoerde🌻Wir werden dabei sein und freuen 
 uns!
CLASS:PUBLIC
DTSTART;TZID=Europe/Berlin:20240408T193000
DTEND;TZID=Europe/Berlin:20240408T220000
DTSTAMP:20260424T171648
END:VEVENT
END:VCALENDAR