BEGIN:VCALENDAR
VERSION:2.0
PRODID:gruene-grasberg.de
METHOD:PUBLISH
BEGIN:VTIMEZONE
TZID:Europe/Berlin
X-LIC-LOCATION:Europe/Berlin
BEGIN:DAYLIGHT
TZOFFSETFROM:+0100
TZOFFSETTO:+0200
TZNAME:CEST
DTSTART:19700329T020000
RRULE:FREQ=YEARLY;INTERVAL=1;BYDAY=-1SU;BYMONTH=3
END:DAYLIGHT
BEGIN:STANDARD
TZOFFSETFROM:+0200
TZOFFSETTO:+0100
TZNAME:CET
DTSTART:19701025T030000
RRULE:FREQ=YEARLY;INTERVAL=1;BYDAY=-1SU;BYMONTH=10
END:STANDARD
END:VTIMEZONE
BEGIN:VEVENT
UID:d0d10edd4a56b5dcc8704589d357c058@gruene-grasberg.de
URL;VALUE=URI:https://gruene-grasberg.de/termine/ov-regeltermin/
LOCATION:Grasberger Hof, Speckmannstraße, Grasberg
SUMMARY:Ortsverband Treffen „Regeltermin“
DESCRIPTION;ALTREP="data:text/html,%0A%3Cp%20class%3D%22has-large-font-si
 ze%22%3Eam%2002.03.2022%20um%2019%20Uhr%20im%20Grasberger%20Hof%20%28Schu
 lungsraum%29%3C%2Fp%3E%0A%0A%0A%0A%3Cp%3Ebei%20Interesse%20gerne%20vorbei
 %20kommen%21%3C%2Fp%3E%0A":am 02.03.2022 um 19 Uhr im Grasberger Hof (Sch
 ulungsraum)\n\nbei Interesse gerne vorbei kommen!
CLASS:PUBLIC
DTSTART;TZID=Europe/Berlin:20220302T190000
DTEND;TZID=Europe/Berlin:20220302T220000
DTSTAMP:20260424T230845
END:VEVENT
END:VCALENDAR