BEGIN:VCALENDAR
VERSION:2.0
PRODID:gruene-grasberg.de
METHOD:PUBLISH
BEGIN:VTIMEZONE
TZID:Europe/Berlin
X-LIC-LOCATION:Europe/Berlin
BEGIN:DAYLIGHT
TZOFFSETFROM:+0100
TZOFFSETTO:+0200
TZNAME:CEST
DTSTART:19700329T020000
RRULE:FREQ=YEARLY;INTERVAL=1;BYDAY=-1SU;BYMONTH=3
END:DAYLIGHT
BEGIN:STANDARD
TZOFFSETFROM:+0200
TZOFFSETTO:+0100
TZNAME:CET
DTSTART:19701025T030000
RRULE:FREQ=YEARLY;INTERVAL=1;BYDAY=-1SU;BYMONTH=10
END:STANDARD
END:VTIMEZONE
BEGIN:VEVENT
UID:caa21a02163ed3986a1a051db030235c@gruene-grasberg.de
URL;VALUE=URI:https://gruene-grasberg.de/termine/mitgliederversammlung-de
 s-ortsverbandes-grasberg/
LOCATION:Grasberger Hof, Grasberg
SUMMARY:Mitgliederversammlung des Ortsverbandes Grasberg
DESCRIPTION;ALTREP="data:text/html,%0A%3Cp%3E%3Cstrong%3EMittwoch%2C%20d.
 %2022.%20April%202026%20um%2019%20Uhr%20im%20Grasberger%20Hof%3C%2Fstrong
 %3E%3C%2Fp%3E%0A":Mittwoch\, d. 22. April 2026 um 19 Uhr im Grasberger Ho
 f
CLASS:PUBLIC
DTSTART;TZID=Europe/Berlin:20260422T190000
DTEND;TZID=Europe/Berlin:20260422T210000
DTSTAMP:20260421T111148
END:VEVENT
END:VCALENDAR