BEGIN:VCALENDAR
VERSION:2.0
PRODID:gruene-grasberg.de
METHOD:PUBLISH
BEGIN:VTIMEZONE
TZID:Europe/Berlin
X-LIC-LOCATION:Europe/Berlin
BEGIN:DAYLIGHT
TZOFFSETFROM:+0100
TZOFFSETTO:+0200
TZNAME:CEST
DTSTART:19700329T020000
RRULE:FREQ=YEARLY;INTERVAL=1;BYDAY=-1SU;BYMONTH=3
END:DAYLIGHT
BEGIN:STANDARD
TZOFFSETFROM:+0200
TZOFFSETTO:+0100
TZNAME:CET
DTSTART:19701025T030000
RRULE:FREQ=YEARLY;INTERVAL=1;BYDAY=-1SU;BYMONTH=10
END:STANDARD
END:VTIMEZONE
BEGIN:VEVENT
UID:a61c5479fdea5241c04da3cff2a197f2@gruene-grasberg.de
URL;VALUE=URI:https://gruene-grasberg.de/termine/lebkuchen-mit-lena/
LOCATION:Büro GRÜNE OHZ, Bahnhofstr. 88, 27711 Osterholz-Scharmbeck
SUMMARY:Lebkuchen mit Lena
DESCRIPTION;ALTREP="data:text/html,%0A%3Cp%3EEine%20Bundestagsabgeordnete
 %20mit%20Herz%20und%20Verstand%20steht%20zur%20Verf%C3%BCgung%20um%20alle
 %20Sorgen%20und%20N%C3%B6te%2C%20die%20sich%20in%20Berlin%20adressieren%2
 0lassen%20anzuh%C3%B6ren%20und%20mitzunehmen.%20Kommt%20und%20diskutiert%
 20mit%20ihr%3C%2Fp%3E%0A%0A%0A%0A%3Cp%3EDonnerstag%3Cbr%3E20.11.2025%3Cbr
 %3E17%3A00%20-%2019%3A00%20Uhr%3Cbr%3EB%C3%BCro%20GR%C3%9CNE%20OHZ%3Cbr%3
 EBahnhofstr.%2088%3Cbr%3E27711%20Osterholz-Scharmbeck%3Cbr%3Eorganisiert%
 20von%20MdB%20Dr.Lena%20Gumnio%3C%2Fp%3E%0A":Eine Bundestagsabgeordnete m
 it Herz und Verstand steht zur Verfügung um alle Sorgen und Nöte\, die 
 sich in Berlin adressieren lassen anzuhören und mitzunehmen. Kommt und d
 iskutiert mit ihr\n\nDonnerstag20.11.202517:00 - 19:00 UhrBüro GRÜNE OH
 ZBahnhofstr. 8827711 Osterholz-Scharmbeckorganisiert von MdB Dr.Lena Gumn
 io
CLASS:PUBLIC
DTSTART;TZID=Europe/Berlin:20251120T170000
DTEND;TZID=Europe/Berlin:20251120T190000
DTSTAMP:20260424T171219
END:VEVENT
END:VCALENDAR