BEGIN:VCALENDAR
VERSION:2.0
PRODID:gruene-grasberg.de
METHOD:PUBLISH
BEGIN:VTIMEZONE
TZID:Europe/Berlin
X-LIC-LOCATION:Europe/Berlin
BEGIN:DAYLIGHT
TZOFFSETFROM:+0100
TZOFFSETTO:+0200
TZNAME:CEST
DTSTART:19700329T020000
RRULE:FREQ=YEARLY;INTERVAL=1;BYDAY=-1SU;BYMONTH=3
END:DAYLIGHT
BEGIN:STANDARD
TZOFFSETFROM:+0200
TZOFFSETTO:+0100
TZNAME:CET
DTSTART:19701025T030000
RRULE:FREQ=YEARLY;INTERVAL=1;BYDAY=-1SU;BYMONTH=10
END:STANDARD
END:VTIMEZONE
BEGIN:VEVENT
UID:665dc1a6797f1cfb13a4fd523caa2914@gruene-grasberg.de
URL;VALUE=URI:https://gruene-grasberg.de/termine/ausschuss-fuer-bau-planu
 ng-und-entwicklung/
LOCATION:Sitzungssaal, Rathaus, Grasberg
SUMMARY:Ausschuss für Bau, Planung und Entwicklung
DESCRIPTION;ALTREP="data:text/html,%0A%3Cp%3E%3Ca%20href%3D%22https%3A%2F
 %2Fgrasberg.ratsinfomanagement.net%2Ftops%2F%3F__%3DUGhVM0hpd2NXNFdFcExjZ
 duhvKoOLDUFtmsryfwInys%22%3EDi%2C%2011.11.2025%2020%3A00%20Uhr%3C%2Fa%3E%
 20Ausschuss%20f%C3%BCr%20Bau%2C%20Planung%20und%20Entwicklung%3Cbr%3ERath
 aus%2C%2028879%20Grasberg%2C%20Sitzungssaal%3C%2Fp%3E%0A":Di\, 11.11.2025
  20:00 Uhr Ausschuss für Bau\, Planung und EntwicklungRathaus\, 28879 Gr
 asberg\, Sitzungssaal
CLASS:PUBLIC
DTSTART;TZID=Europe/Berlin:20251111T200000
DTEND;TZID=Europe/Berlin:20251111T210000
DTSTAMP:20260421T113746
END:VEVENT
END:VCALENDAR